BEGIN:VCALENDAR
VERSION:2.0
PRODID:DPCALENDAR
CALSCALE:GREGORIAN
X-WR-TIMEZONE:UTC
BEGIN:VEVENT
DTSTART;TZID=UTC:20251213T170000
DTEND;TZID=UTC:20251213T180000
UID:F674A2C1-ABC2-40D0-B090-488802C62BD4
SUMMARY:Adventskonzert
CREATED:20251213T175348Z
DTSTAMP:20251213T175348Z
URL:https://schoenstaetter-marienschule.de/schulleben/gesamtkalender/adventskonzert
DESCRIPTION:Schulkonzert zum Advent
X-ALT-DESC;FMTTYPE=text/html:<p>Schulkonzert zum Advent</p>
LAST-MODIFIED:20251213T175348Z
SEQUENCE:0
LOCATION:Burgstraße\, 56179 Vallendar\, Rheinland-Pfalz\, Deutschland
GEO:50.40013810;7.61424790
X-LOCATION-DISPLAYNAME:Vallendar
X-ACCESS:1
X-HITS:2
X-COLOR:3366cc
X-SHOW-END-TIME:0
END:VEVENT
BEGIN:VEVENT
DTSTART;VALUE=DATE:20260112
DTEND;VALUE=DATE:20260131
UID:5DC1DD35-9BFA-4138-ABF1-5301DCE405DF
SUMMARY:Sozialpraktikum 11. Klassen
CREATED:20251223T185021Z
DTSTAMP:20251223T185021Z
URL:https://schoenstaetter-marienschule.de/schulleben/gesamtkalender/sozialpraktikum
LAST-MODIFIED:20260122T113634Z
SEQUENCE:2565973
X-ACCESS:1
X-HITS:0
X-COLOR:3366cc
X-SHOW-END-TIME:0
END:VEVENT
BEGIN:VEVENT
DTSTART;TZID=UTC:20260116T075000
DTEND;TZID=UTC:20260116T085000
UID:369E07C3-DB23-4C07-B5B7-64CDC65697DD
SUMMARY:ökumen. Gottesdienst 7/8
CREATED:20251223T185107Z
DTSTAMP:20251223T185107Z
URL:https://schoenstaetter-marienschule.de/schulleben/gesamtkalender/oekumen-gottesdienst-5-6
LAST-MODIFIED:20260122T113556Z
SEQUENCE:2565889
X-ACCESS:1
X-HITS:0
X-COLOR:3366cc
X-SHOW-END-TIME:0
END:VEVENT
BEGIN:VEVENT
DTSTART;TZID=UTC:20260123T075000
DTEND;TZID=UTC:20260123T085000
UID:9CE3F3F7-B1A5-4965-8761-F2909ED3693F
SUMMARY:ökumen. Gottesdienst 5/6
CREATED:20251223T185233Z
DTSTAMP:20251223T185233Z
URL:https://schoenstaetter-marienschule.de/schulleben/gesamtkalender/oekumen-gottesdienst-7-8
LAST-MODIFIED:20260122T104659Z
SEQUENCE:2562866
X-ACCESS:1
X-HITS:0
X-COLOR:3366cc
X-SHOW-END-TIME:0
END:VEVENT
BEGIN:VEVENT
DTSTART;TZID=UTC:20260130T075000
DTEND;TZID=UTC:20260130T110000
UID:0CE00D3B-9619-4B66-A6E7-8CFF70F6DAA6
SUMMARY:Zeugnisse - Unterrichtsende 11:00 Uhr
CREATED:20260122T105340Z
DTSTAMP:20260122T105340Z
URL:https://schoenstaetter-marienschule.de/schulleben/gesamtkalender/zeugnisse-unterrichtsende-11-00-uhr
LAST-MODIFIED:20260122T105340Z
SEQUENCE:0
X-ACCESS:1
X-HITS:0
X-COLOR:3366cc
X-SHOW-END-TIME:1
END:VEVENT
BEGIN:VEVENT
DTSTART;TZID=UTC:20260130T133000
DTEND;TZID=UTC:20260130T170000
UID:C2AAF4CE-91D1-46CB-89E9-2F47CD8E38A7
SUMMARY:Zeugnisabgabe neue 5er
CREATED:20260122T113750Z
DTSTAMP:20260122T113750Z
URL:https://schoenstaetter-marienschule.de/schulleben/gesamtkalender/zeugnisabgabe-neue-5er
LAST-MODIFIED:20260122T113750Z
SEQUENCE:0
X-ACCESS:1
X-HITS:0
X-COLOR:3366cc
X-SHOW-END-TIME:1
END:VEVENT
BEGIN:VEVENT
DTSTART;TZID=UTC:20260131T080000
DTEND;TZID=UTC:20260131T180000
UID:B5CD2D0E-329E-4DF4-BBB9-7AE14B0B9230
SUMMARY:First Lego League
CREATED:20260122T105403Z
DTSTAMP:20260122T105403Z
URL:https://schoenstaetter-marienschule.de/schulleben/gesamtkalender/first-lego-league
LAST-MODIFIED:20260122T105403Z
SEQUENCE:0
X-ACCESS:1
X-HITS:0
X-COLOR:3366cc
X-SHOW-END-TIME:1
END:VEVENT
BEGIN:VEVENT
DTSTART;TZID=UTC:20260131T093000
DTEND;TZID=UTC:20260131T110000
UID:F5C603B7-9658-4EF9-A44E-C39C3BAF3458
SUMMARY:Zeugnisabgabe neue 5er
CREATED:20260122T113821Z
DTSTAMP:20260122T113821Z
URL:https://schoenstaetter-marienschule.de/schulleben/gesamtkalender/zeugnisabgabe-neue-5er-2
LAST-MODIFIED:20260122T113821Z
SEQUENCE:0
X-ACCESS:1
X-HITS:0
X-COLOR:3366cc
X-SHOW-END-TIME:1
END:VEVENT
BEGIN:VEVENT
DTSTART;TZID=UTC:20260202T075000
DTEND;TZID=UTC:20260202T164500
UID:B18E985B-EF02-4881-943F-B683674A114A
SUMMARY:schulinterner Fortbildungstag - unterrichtsfrei
CREATED:20260122T104825Z
DTSTAMP:20260122T104825Z
URL:https://schoenstaetter-marienschule.de/schulleben/gesamtkalender/schulinterner-fortbildungstag-unterrichtsfrei
LAST-MODIFIED:20260122T105246Z
SEQUENCE:261
X-ACCESS:1
X-HITS:0
X-COLOR:3366cc
X-SHOW-END-TIME:0
END:VEVENT
BEGIN:VEVENT
DTSTART;TZID=UTC:20260203T183000
DTEND;TZID=UTC:20260203T193000
UID:DA00FDFA-D916-4737-884E-3CEC34E91EA9
SUMMARY:Elternabend zum Cybergrooming-Workshop der 5. Klasse
CREATED:20260122T105121Z
DTSTAMP:20260122T105121Z
URL:https://schoenstaetter-marienschule.de/schulleben/gesamtkalender/elternabend-zum-cybergrooming-workshop-der-5-klasse
LAST-MODIFIED:20260122T105259Z
SEQUENCE:98
X-ACCESS:1
X-HITS:0
X-COLOR:3366cc
X-SHOW-END-TIME:0
END:VEVENT
BEGIN:VEVENT
DTSTART;VALUE=DATE:20260210
DTEND;VALUE=DATE:20260211
UID:48A1379E-BC2F-40F8-A3A7-58C1C2EA242F
SUMMARY:MSS 12: Methodentraining "Versicherungen"
CREATED:20260122T105444Z
DTSTAMP:20260122T105444Z
URL:https://schoenstaetter-marienschule.de/schulleben/gesamtkalender/mss-12-methodentraining-versicherungen
LAST-MODIFIED:20260122T105444Z
SEQUENCE:0
X-ACCESS:1
X-HITS:0
X-COLOR:3366cc
X-SHOW-END-TIME:0
END:VEVENT
BEGIN:VEVENT
DTSTART;TZID=UTC:20260210T075000
DTEND;TZID=UTC:20260210T083500
UID:848C698C-C9A5-4420-976F-D94059B3B187
SUMMARY:MSS 11: Info
CREATED:20260122T105234Z
DTSTAMP:20260122T105234Z
URL:https://schoenstaetter-marienschule.de/schulleben/gesamtkalender/mss-11-info
LAST-MODIFIED:20260122T105234Z
SEQUENCE:0
X-ACCESS:1
X-HITS:0
X-COLOR:3366cc
X-SHOW-END-TIME:1
END:VEVENT
BEGIN:VEVENT
DTSTART;TZID=UTC:20260212T075000
DTEND;TZID=UTC:20260212T111100
UID:0965D56C-A042-408C-8F05-BC5E858EC087
SUMMARY:Schwerdonnerstag - Karnevalsfeier
CREATED:20260122T105535Z
DTSTAMP:20260122T105535Z
URL:https://schoenstaetter-marienschule.de/schulleben/gesamtkalender/schwerdonnerstag-karnevalsfeier
LAST-MODIFIED:20260122T105535Z
SEQUENCE:0
X-ACCESS:1
X-HITS:0
X-COLOR:3366cc
X-SHOW-END-TIME:1
END:VEVENT
BEGIN:VEVENT
DTSTART;VALUE=DATE:20260213
DTEND;VALUE=DATE:20260214
UID:A248C574-8E64-4457-A5D9-4F455A4EE45A
SUMMARY:beweglicher Ferientag - unterrichtsfrei
CREATED:20260122T105611Z
DTSTAMP:20260122T105611Z
URL:https://schoenstaetter-marienschule.de/schulleben/gesamtkalender/beweglicher-ferientag-unterrichtsfrei
LAST-MODIFIED:20260122T105611Z
SEQUENCE:0
X-ACCESS:1
X-HITS:0
X-COLOR:3366cc
X-SHOW-END-TIME:0
END:VEVENT
BEGIN:VEVENT
DTSTART;VALUE=DATE:20260216
DTEND;VALUE=DATE:20260217
UID:924C45E0-9B52-4349-AB0C-14BAA5534B26
SUMMARY:Rosenmontag - unterrichtsfrei
CREATED:20260122T105631Z
DTSTAMP:20260122T105631Z
URL:https://schoenstaetter-marienschule.de/schulleben/gesamtkalender/rosenmontag-unterrichtsfrei
LAST-MODIFIED:20260122T105631Z
SEQUENCE:0
X-ACCESS:1
X-HITS:0
X-COLOR:3366cc
X-SHOW-END-TIME:0
END:VEVENT
BEGIN:VEVENT
DTSTART;VALUE=DATE:20260217
DTEND;VALUE=DATE:20260218
UID:40F7ACD6-6BE9-4FEA-9EF5-ADEC174A978E
SUMMARY:Fastnachtsdienstag - unterrichtsfrei
CREATED:20260122T105657Z
DTSTAMP:20260122T105657Z
URL:https://schoenstaetter-marienschule.de/schulleben/gesamtkalender/fastnachtsdienstag-unterrichtsfrei
LAST-MODIFIED:20260122T105657Z
SEQUENCE:0
X-ACCESS:1
X-HITS:0
X-COLOR:3366cc
X-SHOW-END-TIME:0
END:VEVENT
BEGIN:VEVENT
DTSTART;VALUE=DATE:20260218
DTEND;VALUE=DATE:20260219
UID:3C022300-725C-4284-B26B-66455B4B0301
SUMMARY:Aschermittwoch - Wortgottesdienste in der Pallottikirche
CREATED:20260122T110143Z
DTSTAMP:20260122T110143Z
URL:https://schoenstaetter-marienschule.de/schulleben/gesamtkalender/aschermittwoch-wortgottesdienste-in-der-pallottikirche
DESCRIPTION:5/6: 8:45 Uhr\N7/8: 9:45 Uhr\N9-13: 10:45 Uhr
X-ALT-DESC;FMTTYPE=text/html:<p>5/6: 8:45 Uhr</p><p>7/8: 9:45 Uhr</p><p>9-13: 10:45 Uhr</p>
LAST-MODIFIED:20260122T110143Z
SEQUENCE:0
X-ACCESS:1
X-HITS:0
X-COLOR:3366cc
X-SHOW-END-TIME:0
END:VEVENT
BEGIN:VEVENT
DTSTART;VALUE=DATE:20260219
DTEND;VALUE=DATE:20260222
UID:F849AA55-CB9D-431B-816A-4E511AA49C4F
SUMMARY:Probewochenende Orchester
CREATED:20260122T110529Z
DTSTAMP:20260122T110529Z
URL:https://schoenstaetter-marienschule.de/schulleben/gesamtkalender/probewochenende-orchester
LAST-MODIFIED:20260122T110529Z
SEQUENCE:0
X-ACCESS:1
X-HITS:0
X-COLOR:3366cc
X-SHOW-END-TIME:0
END:VEVENT
BEGIN:VEVENT
DTSTART;TZID=UTC:20260224T075000
DTEND;TZID=UTC:20260224T083500
UID:C10D7C86-6BD8-40CE-B43D-4FDD242C3CE1
SUMMARY:MSS 12: Info
CREATED:20260122T110616Z
DTSTAMP:20260122T110616Z
URL:https://schoenstaetter-marienschule.de/schulleben/gesamtkalender/mss-12-info
LAST-MODIFIED:20260122T110616Z
SEQUENCE:0
X-ACCESS:1
X-HITS:0
X-COLOR:3366cc
X-SHOW-END-TIME:1
END:VEVENT
BEGIN:VEVENT
DTSTART;TZID=UTC:20260225T150000
DTEND;TZID=UTC:20260225T170000
UID:EED442B7-1AD5-47A6-BB6E-CF02E1032515
SUMMARY:Treffen mit den Grundschullehrern (Lehrer der 5. Klassen)
CREATED:20260122T110742Z
DTSTAMP:20260122T110742Z
URL:https://schoenstaetter-marienschule.de/schulleben/gesamtkalender/treffen-mit-den-grundschullehrern-lehrer-der-5-klassen
LAST-MODIFIED:20260122T110742Z
SEQUENCE:0
X-ACCESS:1
X-HITS:0
X-COLOR:3366cc
X-SHOW-END-TIME:0
END:VEVENT
BEGIN:VEVENT
DTSTART;VALUE=DATE:20260303
DTEND;VALUE=DATE:20260304
UID:42353C41-39F7-412D-9C53-D19F31C2DA5D
SUMMARY:Mathe ohne Grenzen junior
CREATED:20260122T110856Z
DTSTAMP:20260122T110856Z
URL:https://schoenstaetter-marienschule.de/schulleben/gesamtkalender/mathe-ohne-grenzen-junior
LAST-MODIFIED:20260122T110856Z
SEQUENCE:0
X-ACCESS:1
X-HITS:0
X-COLOR:3366cc
X-SHOW-END-TIME:0
END:VEVENT
BEGIN:VEVENT
DTSTART;VALUE=DATE:20260304
DTEND;VALUE=DATE:20260305
UID:04CE763B-6DB0-41C8-BE5B-84AF3C2C67AB
SUMMARY:Letzter Schultag Klasse 13
CREATED:20260122T110927Z
DTSTAMP:20260122T110927Z
URL:https://schoenstaetter-marienschule.de/schulleben/gesamtkalender/letzter-schultag-klasse-13
LAST-MODIFIED:20260122T110927Z
SEQUENCE:0
X-ACCESS:1
X-HITS:0
X-COLOR:3366cc
X-SHOW-END-TIME:0
END:VEVENT
BEGIN:VEVENT
DTSTART;VALUE=DATE:20260305
DTEND;VALUE=DATE:20260306
UID:39A38794-7C41-43F6-8E22-351554A058C4
SUMMARY:Mathe ohne Grenzen 10/11
CREATED:20260122T110952Z
DTSTAMP:20260122T110952Z
URL:https://schoenstaetter-marienschule.de/schulleben/gesamtkalender/mathe-ohne-grenzen-10-11
LAST-MODIFIED:20260122T110952Z
SEQUENCE:0
X-ACCESS:1
X-HITS:0
X-COLOR:3366cc
X-SHOW-END-TIME:0
END:VEVENT
BEGIN:VEVENT
DTSTART;TZID=UTC:20260309T133000
DTEND;TZID=UTC:20260309T170000
UID:80D53DF2-69FB-4267-899B-D2FFEE104BFB
SUMMARY:Gesamtkonferenz - keine GTS
CREATED:20260122T111055Z
DTSTAMP:20260122T111055Z
URL:https://schoenstaetter-marienschule.de/schulleben/gesamtkalender/gesamtkonferenz-keine-gts
LAST-MODIFIED:20260122T111055Z
SEQUENCE:0
X-ACCESS:1
X-HITS:0
X-COLOR:3366cc
X-SHOW-END-TIME:0
END:VEVENT
BEGIN:VEVENT
DTSTART;TZID=UTC:20260313T190000
DTEND;TZID=UTC:20260313T210000
UID:E713EA97-1281-4F79-85AB-077FCD227E90
SUMMARY:Jahreshauptversammlung Ehemalige
CREATED:20260122T111025Z
DTSTAMP:20260122T111025Z
URL:https://schoenstaetter-marienschule.de/schulleben/gesamtkalender/jahreshauptversammlung-ehemalige
LAST-MODIFIED:20260306T132500Z
SEQUENCE:3723275
X-ACCESS:1
X-HITS:0
X-COLOR:3366cc
X-SHOW-END-TIME:0
END:VEVENT
BEGIN:VEVENT
DTSTART;VALUE=DATE:20260319
DTEND;VALUE=DATE:20260320
UID:FCCC30CE-22AB-4275-87A0-D8E3B9F4D2AD
SUMMARY:Känguru Wettbewerb
CREATED:20260122T111134Z
DTSTAMP:20260122T111134Z
URL:https://schoenstaetter-marienschule.de/schulleben/gesamtkalender/kaenguru-wettbewerb
LAST-MODIFIED:20260122T111134Z
SEQUENCE:0
X-ACCESS:1
X-HITS:0
X-COLOR:3366cc
X-SHOW-END-TIME:0
END:VEVENT
BEGIN:VEVENT
DTSTART;TZID=UTC:20260319T130000
DTEND;TZID=UTC:20260319T160000
UID:BE0D8A2C-DC41-4561-AF0E-B8CF1EA45FA9
SUMMARY:keine GTS
CREATED:20260122T111211Z
DTSTAMP:20260122T111211Z
URL:https://schoenstaetter-marienschule.de/schulleben/gesamtkalender/keine-gts
LAST-MODIFIED:20260122T111211Z
SEQUENCE:0
X-ACCESS:1
X-HITS:0
X-COLOR:3366cc
X-SHOW-END-TIME:0
END:VEVENT
BEGIN:VEVENT
DTSTART;VALUE=DATE:20260320
DTEND;VALUE=DATE:20260321
UID:082B3AC6-5DC6-416F-A4B3-F0431B21FC19
SUMMARY:mündl. Abiturprüfung (Gym) / schulinterner Lehrerfortbildungstag (RS+) - unterrichtsfrei
CREATED:20260122T111256Z
DTSTAMP:20260122T111256Z
URL:https://schoenstaetter-marienschule.de/schulleben/gesamtkalender/muendl-abiturpruefung-gym-schulinterner-lehrerfortbildungstag-rs-unterrichtsfrei
LAST-MODIFIED:20260122T111319Z
SEQUENCE:23
X-ACCESS:1
X-HITS:0
X-COLOR:3366cc
X-SHOW-END-TIME:0
END:VEVENT
BEGIN:VEVENT
DTSTART;VALUE=DATE:20260324
DTEND;VALUE=DATE:20260325
UID:881EDC92-09A2-42AF-A755-453BCF9EC3A7
SUMMARY:Beichtgelegenheit
CREATED:20260122T111354Z
DTSTAMP:20260122T111354Z
URL:https://schoenstaetter-marienschule.de/schulleben/gesamtkalender/beichtgelegenheit
LAST-MODIFIED:20260310T113124Z
SEQUENCE:4061850
X-ACCESS:1
X-HITS:0
X-COLOR:3366cc
X-SHOW-END-TIME:0
END:VEVENT
BEGIN:VEVENT
DTSTART;TZID=UTC:20260324T075000
DTEND;TZID=UTC:20260324T083500
UID:003ED5C2-3B3B-4372-A749-AB571ADA699B
SUMMARY:Kreuzweg Klasse 8-12 Pallottikirche
CREATED:20260122T111441Z
DTSTAMP:20260122T111441Z
URL:https://schoenstaetter-marienschule.de/schulleben/gesamtkalender/kreuzweg-klasse-9-12-pallottikirche
LAST-MODIFIED:20260310T113053Z
SEQUENCE:4061772
X-ACCESS:1
X-HITS:0
X-COLOR:3366cc
X-SHOW-END-TIME:1
END:VEVENT
BEGIN:VEVENT
DTSTART;TZID=UTC:20260327T090000
DTEND;TZID=UTC:20260327T130000
UID:14B1DA69-E623-4265-A8C4-15A6FE177509
SUMMARY:Abiturfeier 
CREATED:20260122T111541Z
DTSTAMP:20260122T111541Z
URL:https://schoenstaetter-marienschule.de/schulleben/gesamtkalender/abiturfeier
DESCRIPTION:\NAbiturgottesdienst Pallottikirche: 9.00 Uhr \NAulafeier: 11.00 Uhr\N
X-ALT-DESC;FMTTYPE=text/html:<ul><li><span style="font-size: 8pt;">Abiturgottesdienst Pallottikirche: 9.00 Uhr&nbsp;</span></li><li><span style="font-size: 8pt;">Aulafeier: 11.00 Uhr</span></li></ul>
LAST-MODIFIED:20260323T185432Z
SEQUENCE:5211531
X-ACCESS:1
X-HITS:0
X-COLOR:3366cc
X-SHOW-END-TIME:0
END:VEVENT
BEGIN:VEVENT
DTSTART;TZID=UTC:20260330T110000
DTEND;TZID=UTC:20260410T120000
UID:1195A1E8-E066-424B-B0DC-F3A93219D3E9
SUMMARY:Osterferien
CREATED:20260122T111606Z
DTSTAMP:20260122T111606Z
URL:https://schoenstaetter-marienschule.de/schulleben/gesamtkalender/osterferien
LAST-MODIFIED:20260122T111606Z
SEQUENCE:0
X-ACCESS:1
X-HITS:0
X-COLOR:3366cc
X-SHOW-END-TIME:0
END:VEVENT
BEGIN:VEVENT
DTSTART;VALUE=DATE:20260412
DTEND;VALUE=DATE:20260419
UID:9A655502-5F87-4536-A693-7DB424C3504D
SUMMARY:Kursfahrt 12
CREATED:20260122T112019Z
DTSTAMP:20260122T112019Z
URL:https://schoenstaetter-marienschule.de/schulleben/gesamtkalender/kursfahrt-12
LAST-MODIFIED:20260122T112019Z
SEQUENCE:0
X-ACCESS:1
X-HITS:0
X-COLOR:3366cc
X-SHOW-END-TIME:0
END:VEVENT
BEGIN:VEVENT
DTSTART;VALUE=DATE:20260413
DTEND;VALUE=DATE:20260418
UID:64B103DA-DBCC-4252-B721-3F9312106689
SUMMARY:Praktikum 8er (RS+)
CREATED:20260122T112110Z
DTSTAMP:20260122T112110Z
URL:https://schoenstaetter-marienschule.de/schulleben/gesamtkalender/praktikum-8er-rs
LAST-MODIFIED:20260122T112110Z
SEQUENCE:0
X-ACCESS:1
X-HITS:0
X-COLOR:3366cc
X-SHOW-END-TIME:0
END:VEVENT
BEGIN:VEVENT
DTSTART;VALUE=DATE:20260416
DTEND;VALUE=DATE:20260418
UID:D08B1227-9924-447C-8F1F-137D760C1CED
SUMMARY:Klassenfahrt 7 (Gym)
CREATED:20260122T112143Z
DTSTAMP:20260122T112143Z
URL:https://schoenstaetter-marienschule.de/schulleben/gesamtkalender/klassenfahrt-7-gym
LAST-MODIFIED:20260122T112143Z
SEQUENCE:0
X-ACCESS:1
X-HITS:0
X-COLOR:3366cc
X-SHOW-END-TIME:1
END:VEVENT
BEGIN:VEVENT
DTSTART;VALUE=DATE:20260421
DTEND;VALUE=DATE:20260422
UID:476865F6-F3DC-4963-B2A7-15BDD9DFC70C
SUMMARY:MINT-Tag
CREATED:20260122T112207Z
DTSTAMP:20260122T112207Z
URL:https://schoenstaetter-marienschule.de/schulleben/gesamtkalender/mint-tag
LAST-MODIFIED:20260122T112207Z
SEQUENCE:0
X-ACCESS:1
X-HITS:0
X-COLOR:3366cc
X-SHOW-END-TIME:0
END:VEVENT
BEGIN:VEVENT
DTSTART;VALUE=DATE:20260423
DTEND;VALUE=DATE:20260424
UID:258DCD1C-8E06-49A0-B6D8-6E41C79EA1F2
SUMMARY:Girls day 
CREATED:20260122T112241Z
DTSTAMP:20260122T112241Z
URL:https://schoenstaetter-marienschule.de/schulleben/gesamtkalender/girls-day
LAST-MODIFIED:20260122T112241Z
SEQUENCE:0
X-ACCESS:1
X-HITS:0
X-COLOR:3366cc
X-SHOW-END-TIME:0
END:VEVENT
BEGIN:VEVENT
DTSTART;TZID=UTC:20260423T190000
DTEND;TZID=UTC:20260423T210000
UID:FD7340C3-240B-4541-B7BD-E86E3F22407D
SUMMARY:Musikalischer Abend
CREATED:20260122T112310Z
DTSTAMP:20260122T112310Z
URL:https://schoenstaetter-marienschule.de/schulleben/gesamtkalender/musikalischer-abend
LAST-MODIFIED:20260122T112310Z
SEQUENCE:0
X-ACCESS:1
X-HITS:0
X-COLOR:3366cc
X-SHOW-END-TIME:0
END:VEVENT
BEGIN:VEVENT
DTSTART;VALUE=DATE:20260501
DTEND;VALUE=DATE:20260502
UID:4C9F6379-883F-4E8D-A768-58E8141C7922
SUMMARY:Maifeiertag - unterrichtsfrei
CREATED:20260122T112337Z
DTSTAMP:20260122T112337Z
URL:https://schoenstaetter-marienschule.de/schulleben/gesamtkalender/maifeiertag-unterrichtsfrei
LAST-MODIFIED:20260122T112337Z
SEQUENCE:0
X-ACCESS:1
X-HITS:0
X-COLOR:3366cc
X-SHOW-END-TIME:0
END:VEVENT
BEGIN:VEVENT
DTSTART;VALUE=DATE:20260504
DTEND;VALUE=DATE:20260505
UID:CC90691F-781B-4CB3-8711-F93EF06DA9AE
SUMMARY:beweglicher Ferientag - unterrichtsfrei
CREATED:20260122T112400Z
DTSTAMP:20260122T112400Z
URL:https://schoenstaetter-marienschule.de/schulleben/gesamtkalender/beweglicher-ferientag-unterrichtsfrei-2
LAST-MODIFIED:20260122T112400Z
SEQUENCE:0
X-ACCESS:1
X-HITS:0
X-COLOR:3366cc
X-SHOW-END-TIME:0
END:VEVENT
BEGIN:VEVENT
DTSTART;TZID=UTC:20260505T075000
DTEND;TZID=UTC:20260505T092500
UID:C7D85E1B-EE08-42EB-96E0-1CDEDE05F80A
SUMMARY:Maigottesdienst (5-12)
CREATED:20260122T112436Z
DTSTAMP:20260122T112436Z
URL:https://schoenstaetter-marienschule.de/schulleben/gesamtkalender/maigottesdienst-5-12
LAST-MODIFIED:20260122T112436Z
SEQUENCE:0
X-ACCESS:1
X-HITS:0
X-COLOR:3366cc
X-SHOW-END-TIME:0
END:VEVENT
BEGIN:VEVENT
DTSTART;VALUE=DATE:20260513
DTEND;VALUE=DATE:20260514
UID:5FB8C817-E947-49D1-B9A9-508BB29F049F
SUMMARY:Demokratie-Europa-Tag
CREATED:20260122T112500Z
DTSTAMP:20260122T112500Z
URL:https://schoenstaetter-marienschule.de/schulleben/gesamtkalender/demokratie-europa-tag
LAST-MODIFIED:20260122T112500Z
SEQUENCE:0
X-ACCESS:1
X-HITS:0
X-COLOR:3366cc
X-SHOW-END-TIME:0
END:VEVENT
BEGIN:VEVENT
DTSTART;VALUE=DATE:20260514
DTEND;VALUE=DATE:20260515
UID:94BD278A-749F-4339-8FE4-BEA3005FDAF3
SUMMARY:Christi Himmelfahrt - unterrichtsfrei
CREATED:20260122T112525Z
DTSTAMP:20260122T112525Z
URL:https://schoenstaetter-marienschule.de/schulleben/gesamtkalender/christi-himmelfahrt-unterrichtsfrei
LAST-MODIFIED:20260122T112525Z
SEQUENCE:0
X-ACCESS:1
X-HITS:0
X-COLOR:3366cc
X-SHOW-END-TIME:0
END:VEVENT
BEGIN:VEVENT
DTSTART;VALUE=DATE:20260515
DTEND;VALUE=DATE:20260516
UID:E7A306F2-8DED-4500-AC98-7F5F3E356802
SUMMARY:beweglicher Ferientag - unterrichtsfrei
CREATED:20260122T112541Z
DTSTAMP:20260122T112541Z
URL:https://schoenstaetter-marienschule.de/schulleben/gesamtkalender/beweglicher-ferientag-unterrichtsfrei-3
LAST-MODIFIED:20260122T112541Z
SEQUENCE:0
X-ACCESS:1
X-HITS:0
X-COLOR:3366cc
X-SHOW-END-TIME:0
END:VEVENT
BEGIN:VEVENT
DTSTART;VALUE=DATE:20260525
DTEND;VALUE=DATE:20260526
UID:2B7B5097-0628-4711-AD17-31BA92AF47B1
SUMMARY:Pfingstmontag - unterrichtsfrei
CREATED:20260122T112611Z
DTSTAMP:20260122T112611Z
URL:https://schoenstaetter-marienschule.de/schulleben/gesamtkalender/pfingstmontag-unterrichtsfrei
LAST-MODIFIED:20260122T112611Z
SEQUENCE:0
X-ACCESS:1
X-HITS:0
X-COLOR:3366cc
X-SHOW-END-TIME:0
END:VEVENT
BEGIN:VEVENT
DTSTART;VALUE=DATE:20260526
DTEND;VALUE=DATE:20260527
UID:D9D256D2-65D8-4E6F-8BE3-DE2C2153EC24
SUMMARY:schulinterner Fortbildungstag - unterrichtsfrei
CREATED:20260122T112628Z
DTSTAMP:20260122T112628Z
URL:https://schoenstaetter-marienschule.de/schulleben/gesamtkalender/schulinterner-fortbildungstag-unterrichtsfrei-2
LAST-MODIFIED:20260122T112628Z
SEQUENCE:0
X-ACCESS:1
X-HITS:0
X-COLOR:3366cc
X-SHOW-END-TIME:0
END:VEVENT
BEGIN:VEVENT
DTSTART;TZID=UTC:20260531T190000
DTEND;TZID=UTC:20260531T210000
UID:C60AC84D-FB75-4331-B4AD-617113C55658
SUMMARY:Musicalaufführung
CREATED:20260122T112710Z
DTSTAMP:20260122T112710Z
URL:https://schoenstaetter-marienschule.de/schulleben/gesamtkalender/musicalauffuehrung
LAST-MODIFIED:20260122T112710Z
SEQUENCE:0
X-ACCESS:1
X-HITS:0
X-COLOR:3366cc
X-SHOW-END-TIME:1
END:VEVENT
BEGIN:VEVENT
DTSTART;VALUE=DATE:20260603
DTEND;VALUE=DATE:20260604
UID:08660114-700E-4E89-9316-DA93C5972077
SUMMARY:GTS Ausflug
CREATED:20260122T112739Z
DTSTAMP:20260122T112739Z
URL:https://schoenstaetter-marienschule.de/schulleben/gesamtkalender/gts-ausflug
LAST-MODIFIED:20260122T112739Z
SEQUENCE:0
X-ACCESS:1
X-HITS:0
X-COLOR:3366cc
X-SHOW-END-TIME:1
END:VEVENT
BEGIN:VEVENT
DTSTART;VALUE=DATE:20260603
DTEND;VALUE=DATE:20260604
UID:B342F541-D1DE-4A94-B841-E60CEE9841D5
SUMMARY:UFA-Tag 
CREATED:20260122T113025Z
DTSTAMP:20260122T113025Z
URL:https://schoenstaetter-marienschule.de/schulleben/gesamtkalender/ufa-tag
LAST-MODIFIED:20260122T113025Z
SEQUENCE:0
X-ACCESS:1
X-HITS:0
X-COLOR:3366cc
X-SHOW-END-TIME:1
END:VEVENT
BEGIN:VEVENT
DTSTART;VALUE=DATE:20260604
DTEND;VALUE=DATE:20260605
UID:930F2E33-B755-423A-AC28-1475B749869D
SUMMARY:Fronleichnam - unterrichtsfrei
CREATED:20260122T113048Z
DTSTAMP:20260122T113048Z
URL:https://schoenstaetter-marienschule.de/schulleben/gesamtkalender/fronleichnam-unterrichtsfrei
LAST-MODIFIED:20260122T113048Z
SEQUENCE:0
X-ACCESS:1
X-HITS:0
X-COLOR:3366cc
X-SHOW-END-TIME:1
END:VEVENT
BEGIN:VEVENT
DTSTART;VALUE=DATE:20260605
DTEND;VALUE=DATE:20260606
UID:8569AF00-6C5E-4894-A944-0E4DB5596D05
SUMMARY:beweglicher Ferientag - unterrichtsfrei
CREATED:20260122T113104Z
DTSTAMP:20260122T113104Z
URL:https://schoenstaetter-marienschule.de/schulleben/gesamtkalender/beweglicher-ferientag-unterrichtsfrei-4
LAST-MODIFIED:20260122T113104Z
SEQUENCE:0
X-ACCESS:1
X-HITS:0
X-COLOR:3366cc
X-SHOW-END-TIME:0
END:VEVENT
BEGIN:VEVENT
DTSTART;VALUE=DATE:20260608
DTEND;VALUE=DATE:20260609
UID:066514A0-79BE-4EC9-B09A-FD7A8AE9F987
SUMMARY:Zeugnisse 6. Klassen 
CREATED:20260122T113142Z
DTSTAMP:20260122T113142Z
URL:https://schoenstaetter-marienschule.de/schulleben/gesamtkalender/zeugnisse-6-klassen
LAST-MODIFIED:20260122T113142Z
SEQUENCE:0
X-ACCESS:1
X-HITS:0
X-COLOR:3366cc
X-SHOW-END-TIME:0
END:VEVENT
BEGIN:VEVENT
DTSTART;VALUE=DATE:20260619
DTEND;VALUE=DATE:20260620
UID:22BD1F13-2665-49C5-BA51-05B9E1D6210A
SUMMARY:Entlassfeier der RS+
CREATED:20260122T113229Z
DTSTAMP:20260122T113229Z
URL:https://schoenstaetter-marienschule.de/schulleben/gesamtkalender/entlassfeier-der-rs
LAST-MODIFIED:20260122T113229Z
SEQUENCE:0
X-ACCESS:1
X-HITS:0
X-COLOR:3366cc
X-SHOW-END-TIME:0
END:VEVENT
BEGIN:VEVENT
DTSTART;VALUE=DATE:20260622
DTEND;VALUE=DATE:20260623
UID:9BDEEA36-F904-47CE-A56A-404E2F82700E
SUMMARY:MSS 12: Bewerbertraining + Projekttag
CREATED:20260122T113316Z
DTSTAMP:20260122T113316Z
URL:https://schoenstaetter-marienschule.de/schulleben/gesamtkalender/mss-12-bewerbertraining-projekttag
LAST-MODIFIED:20260122T113316Z
SEQUENCE:0
X-ACCESS:1
X-HITS:0
X-COLOR:3366cc
X-SHOW-END-TIME:0
END:VEVENT
BEGIN:VEVENT
DTSTART;TZID=UTC:20260623T190000
DTEND;TZID=UTC:20260623T210000
UID:97779CD7-6394-466F-B3B0-4C4044DF67EE
SUMMARY:Sommerkonzert
CREATED:20260122T113341Z
DTSTAMP:20260122T113341Z
URL:https://schoenstaetter-marienschule.de/schulleben/gesamtkalender/sommerkonzert
LAST-MODIFIED:20260122T113341Z
SEQUENCE:0
X-ACCESS:1
X-HITS:0
X-COLOR:3366cc
X-SHOW-END-TIME:1
END:VEVENT
BEGIN:VEVENT
DTSTART;VALUE=DATE:20260624
DTEND;VALUE=DATE:20260625
UID:0C21A157-2725-41B3-B2F9-BF1134A777FA
SUMMARY:Wandertag - keine GTS
CREATED:20260122T113405Z
DTSTAMP:20260122T113405Z
URL:https://schoenstaetter-marienschule.de/schulleben/gesamtkalender/wandertag-keine-gts
LAST-MODIFIED:20260122T113405Z
SEQUENCE:0
X-ACCESS:1
X-HITS:0
X-COLOR:3366cc
X-SHOW-END-TIME:0
END:VEVENT
BEGIN:VEVENT
DTSTART;VALUE=DATE:20260626
DTEND;VALUE=DATE:20260627
UID:C1A8AAE8-AD7A-4C00-AD5D-9027DBCF06BA
SUMMARY:Letzter Schultag vor den Sommerferien
CREATED:20260122T113516Z
DTSTAMP:20260122T113516Z
URL:https://schoenstaetter-marienschule.de/schulleben/gesamtkalender/letzter-schultag-vor-den-sommerferien
DESCRIPTION:Gottesdienst 5-12: 7:50 Uhr Pilgerkirche\NSchulschluss: 11:00 Uhr
X-ALT-DESC;FMTTYPE=text/html:<p>Gottesdienst 5-12: 7:50 Uhr Pilgerkirche</p><p>Schulschluss: 11:00 Uhr</p>
LAST-MODIFIED:20260122T113516Z
SEQUENCE:0
X-ACCESS:1
X-HITS:0
X-COLOR:3366cc
X-SHOW-END-TIME:0
END:VEVENT
BEGIN:VEVENT
DTSTART;TZID=UTC:20261106T090000
DTEND;TZID=UTC:20261106T170000
UID:F063151C-EE99-4E93-AB74-E70E872C6C79
SUMMARY:Elternsprechtag
CREATED:20260310T113340Z
DTSTAMP:20260310T113340Z
URL:https://schoenstaetter-marienschule.de/schulleben/gesamtkalender/elternsprechtag
LAST-MODIFIED:20260310T113340Z
SEQUENCE:0
X-ACCESS:1
X-HITS:0
X-COLOR:3366cc
X-SHOW-END-TIME:1
END:VEVENT
BEGIN:VEVENT
DTSTART;TZID=UTC:20261121T090000
DTEND;TZID=UTC:20261121T160000
UID:0209C69D-3566-495E-8A48-4E80CD053D9C
SUMMARY:Tag der offenen Tür
CREATED:20260310T113311Z
DTSTAMP:20260310T113311Z
URL:https://schoenstaetter-marienschule.de/schulleben/gesamtkalender/tag-der-offenen-tuer
LAST-MODIFIED:20260310T113311Z
SEQUENCE:0
X-ACCESS:1
X-HITS:0
X-COLOR:3366cc
X-SHOW-END-TIME:1
END:VEVENT
END:VCALENDAR